BEGIN:VCALENDAR
VERSION:2.0
PRODID:-//MSPA - ECPv6.15.20//NONSGML v1.0//EN
CALSCALE:GREGORIAN
METHOD:PUBLISH
X-ORIGINAL-URL:https://mspaonline.org
X-WR-CALDESC:Events for MSPA
REFRESH-INTERVAL;VALUE=DURATION:PT1H
X-Robots-Tag:noindex
X-PUBLISHED-TTL:PT1H
BEGIN:VTIMEZONE
TZID:America/New_York
BEGIN:DAYLIGHT
TZOFFSETFROM:-0500
TZOFFSETTO:-0400
TZNAME:EDT
DTSTART:20210314T070000
END:DAYLIGHT
BEGIN:STANDARD
TZOFFSETFROM:-0400
TZOFFSETTO:-0500
TZNAME:EST
DTSTART:20211107T060000
END:STANDARD
BEGIN:DAYLIGHT
TZOFFSETFROM:-0500
TZOFFSETTO:-0400
TZNAME:EDT
DTSTART:20220313T070000
END:DAYLIGHT
BEGIN:STANDARD
TZOFFSETFROM:-0400
TZOFFSETTO:-0500
TZNAME:EST
DTSTART:20221106T060000
END:STANDARD
BEGIN:DAYLIGHT
TZOFFSETFROM:-0500
TZOFFSETTO:-0400
TZNAME:EDT
DTSTART:20230312T070000
END:DAYLIGHT
BEGIN:STANDARD
TZOFFSETFROM:-0400
TZOFFSETTO:-0500
TZNAME:EST
DTSTART:20231105T060000
END:STANDARD
BEGIN:DAYLIGHT
TZOFFSETFROM:-0500
TZOFFSETTO:-0400
TZNAME:EDT
DTSTART:20240310T070000
END:DAYLIGHT
BEGIN:STANDARD
TZOFFSETFROM:-0400
TZOFFSETTO:-0500
TZNAME:EST
DTSTART:20241103T060000
END:STANDARD
BEGIN:DAYLIGHT
TZOFFSETFROM:-0500
TZOFFSETTO:-0400
TZNAME:EDT
DTSTART:20250309T070000
END:DAYLIGHT
BEGIN:STANDARD
TZOFFSETFROM:-0400
TZOFFSETTO:-0500
TZNAME:EST
DTSTART:20251102T060000
END:STANDARD
END:VTIMEZONE
BEGIN:VEVENT
DTSTART;TZID=America/New_York:20241018T080000
DTEND;TZID=America/New_York:20241018T170000
DTSTAMP:20260422T194838
CREATED:20240806T201256Z
LAST-MODIFIED:20240819T181747Z
UID:10000027-1729238400-1729270800@mspaonline.org
SUMMARY:Fall Conference In Person 2024
DESCRIPTION:NOTE: MSPA Members MUST be logged in to purchase event tickets
URL:https://mspaonline.org/event/fall-conference-in-person-2024/
LOCATION:Martin’s West\, 6817 Dogwood Road\, Baltimore\, MD\, 21244\, United States
ATTACH;FMTTYPE=image/jpeg:https://mspaonline.org/wp-content/uploads/2022/08/mspa-conference-event-page-scaled.jpg
END:VEVENT
BEGIN:VEVENT
DTSTART;TZID=America/New_York:20241018T080000
DTEND;TZID=America/New_York:20241018T170000
DTSTAMP:20260422T194838
CREATED:20240806T195013Z
LAST-MODIFIED:20240819T191159Z
UID:10000026-1729238400-1729270800@mspaonline.org
SUMMARY:Fall Conference Virtual 2024
DESCRIPTION:Virtual attendance option made possible through live stream services of Human Being Productions. \n			\n			\n				\n				\n				\n				\n			\n				\n				\n			\n				\n				\n				\n				\n				\n				\n				\n				\n				\n				\n				\n				\n				\n				\n				\n				\n				\n				NOTE: MSPA Members MUST be logged in to purchase event tickets
URL:https://mspaonline.org/event/fall-conference-virtual-2024/
LOCATION:Martin’s West\, 6817 Dogwood Road\, Baltimore\, MD\, 21244\, United States
ATTACH;FMTTYPE=image/jpeg:https://mspaonline.org/wp-content/uploads/2022/08/mspa-conference-event-page-scaled.jpg
END:VEVENT
BEGIN:VEVENT
DTSTART;TZID=America/New_York:20231020T080000
DTEND;TZID=America/New_York:20231020T160000
DTSTAMP:20260422T194838
CREATED:20230811T193207Z
LAST-MODIFIED:20231018T193757Z
UID:10000013-1697788800-1697817600@mspaonline.org
SUMMARY:Fall Conference Virtual 2023
DESCRIPTION:NOTE: MSPA Members MUST be logged in to purchase event tickets
URL:https://mspaonline.org/event/fall-conference-virtual-2023/
LOCATION:Martin’s West\, 6817 Dogwood Road\, Baltimore\, MD\, 21244\, United States
ATTACH;FMTTYPE=image/jpeg:https://mspaonline.org/wp-content/uploads/2022/08/mspa-conference-event-page-scaled.jpg
END:VEVENT
BEGIN:VEVENT
DTSTART;TZID=America/New_York:20231020T080000
DTEND;TZID=America/New_York:20231020T160000
DTSTAMP:20260422T194838
CREATED:20230810T201349Z
LAST-MODIFIED:20231007T180600Z
UID:10000006-1697788800-1697817600@mspaonline.org
SUMMARY:Fall Conference In Person 2023
DESCRIPTION:NOTE: MSPA Members MUST be logged in to purchase event tickets
URL:https://mspaonline.org/event/fall-conference-in-person-2023/
LOCATION:Martin’s West\, 6817 Dogwood Road\, Baltimore\, MD\, 21244\, United States
ATTACH;FMTTYPE=image/jpeg:https://mspaonline.org/wp-content/uploads/2022/08/mspa-conference-event-page-scaled.jpg
END:VEVENT
BEGIN:VEVENT
DTSTART;TZID=America/New_York:20221021T080000
DTEND;TZID=America/New_York:20221021T160000
DTSTAMP:20260422T194838
CREATED:20220830T162629Z
LAST-MODIFIED:20221019T132053Z
UID:10000002-1666339200-1666368000@mspaonline.org
SUMMARY:Fall Conference 2022
DESCRIPTION:Across the nation\, district and school leaders are shifting towards practices that are equitable\, fair\, and create favorable outcomes for students who have historically been marginalized. Many schools and district leaders\, educators\, practitioners\, and other key stakeholders still have questions about how to thoughtfully design systems that are equitable. Additionally\, many leaders and educators are wondering what tools and strategies promote equitable outcomes and how to utilize them. This session will help participants to understand how to use a strength-based approach to create the necessary conditions to ensure every student has the chance to succeed. Importantly\, this session will help you to understand how and where to get started. \n  \nNOTE: MSPA Members MUST be logged in to purchase event tickets
URL:https://mspaonline.org/event/fall-conference-2022/
LOCATION:Martin’s West\, 6817 Dogwood Road\, Baltimore\, MD\, 21244\, United States
ATTACH;FMTTYPE=image/jpeg:https://mspaonline.org/wp-content/uploads/2022/08/mspa-conference-event-page-scaled.jpg
END:VEVENT
END:VCALENDAR