BEGIN:VCALENDAR
VERSION:2.0
PRODID:-//MSPA - ECPv6.15.20//NONSGML v1.0//EN
CALSCALE:GREGORIAN
METHOD:PUBLISH
X-WR-CALNAME:MSPA
X-ORIGINAL-URL:https://mspaonline.org
X-WR-CALDESC:Events for MSPA
REFRESH-INTERVAL;VALUE=DURATION:PT1H
X-Robots-Tag:noindex
X-PUBLISHED-TTL:PT1H
BEGIN:VTIMEZONE
TZID:America/New_York
BEGIN:DAYLIGHT
TZOFFSETFROM:-0500
TZOFFSETTO:-0400
TZNAME:EDT
DTSTART:20240310T070000
END:DAYLIGHT
BEGIN:STANDARD
TZOFFSETFROM:-0400
TZOFFSETTO:-0500
TZNAME:EST
DTSTART:20241103T060000
END:STANDARD
BEGIN:DAYLIGHT
TZOFFSETFROM:-0500
TZOFFSETTO:-0400
TZNAME:EDT
DTSTART:20250309T070000
END:DAYLIGHT
BEGIN:STANDARD
TZOFFSETFROM:-0400
TZOFFSETTO:-0500
TZNAME:EST
DTSTART:20251102T060000
END:STANDARD
BEGIN:DAYLIGHT
TZOFFSETFROM:-0500
TZOFFSETTO:-0400
TZNAME:EDT
DTSTART:20260308T070000
END:DAYLIGHT
BEGIN:STANDARD
TZOFFSETFROM:-0400
TZOFFSETTO:-0500
TZNAME:EST
DTSTART:20261101T060000
END:STANDARD
END:VTIMEZONE
BEGIN:VEVENT
DTSTART;TZID=America/New_York:20250904T080000
DTEND;TZID=America/New_York:20250904T093000
DTSTAMP:20260422T233035
CREATED:20250912T173952Z
LAST-MODIFIED:20250904T174131Z
UID:10000042-1756972800-1756978200@mspaonline.org
SUMMARY:Board Meeting - September
DESCRIPTION:MSPA September Board Meeting\nFriday\, September 12 · 8:00 – 10:00am\nTime zone: America/New_York\nGoogle Meet joining info\nVideo call link: https://meet.google.com/pwy-jszx-wjy\nOr dial: ‪(US) +1 970-510-6425‬ PIN: ‪858 854 276‬#\nMore phone numbers: https://tel.meet/pwy-jszx-wjy?pin=5972068540430
URL:https://mspaonline.org/event/board-meeting-september/
END:VEVENT
BEGIN:VEVENT
DTSTART;TZID=America/New_York:20250912T080000
DTEND;TZID=America/New_York:20250912T093000
DTSTAMP:20260422T233035
CREATED:20250904T174242Z
LAST-MODIFIED:20250904T174242Z
UID:10000043-1757664000-1757669400@mspaonline.org
SUMMARY:Board Meeting - September
DESCRIPTION:MSPA September Board Meeting\nFriday\, September 12 · 8:00 – 10:00am\nTime zone: America/New_York\nGoogle Meet joining info\nVideo call link: https://meet.google.com/pwy-jszx-wjy\nOr dial: ‪(US) +1 970-510-6425‬ PIN: ‪858 854 276‬#\nMore phone numbers: https://tel.meet/pwy-jszx-wjy?pin=5972068540430
URL:https://mspaonline.org/event/board-meeting-september-2/
END:VEVENT
END:VCALENDAR