BEGIN:VCALENDAR
VERSION:2.0
PRODID:-//MSPA - ECPv6.15.20//NONSGML v1.0//EN
CALSCALE:GREGORIAN
METHOD:PUBLISH
X-ORIGINAL-URL:https://mspaonline.org
X-WR-CALDESC:Events for MSPA
REFRESH-INTERVAL;VALUE=DURATION:PT1H
X-Robots-Tag:noindex
X-PUBLISHED-TTL:PT1H
BEGIN:VTIMEZONE
TZID:America/New_York
BEGIN:DAYLIGHT
TZOFFSETFROM:-0500
TZOFFSETTO:-0400
TZNAME:EDT
DTSTART:20240310T070000
END:DAYLIGHT
BEGIN:STANDARD
TZOFFSETFROM:-0400
TZOFFSETTO:-0500
TZNAME:EST
DTSTART:20241103T060000
END:STANDARD
BEGIN:DAYLIGHT
TZOFFSETFROM:-0500
TZOFFSETTO:-0400
TZNAME:EDT
DTSTART:20250309T070000
END:DAYLIGHT
BEGIN:STANDARD
TZOFFSETFROM:-0400
TZOFFSETTO:-0500
TZNAME:EST
DTSTART:20251102T060000
END:STANDARD
BEGIN:DAYLIGHT
TZOFFSETFROM:-0500
TZOFFSETTO:-0400
TZNAME:EDT
DTSTART:20260308T070000
END:DAYLIGHT
BEGIN:STANDARD
TZOFFSETFROM:-0400
TZOFFSETTO:-0500
TZNAME:EST
DTSTART:20261101T060000
END:STANDARD
END:VTIMEZONE
BEGIN:VEVENT
DTSTART;TZID=America/New_York:20251024T120000
DTEND;TZID=America/New_York:20251024T150000
DTSTAMP:20260422T233147
CREATED:20250623T134107Z
LAST-MODIFIED:20251023T114911Z
UID:10000040-1761307200-1761318000@mspaonline.org
SUMMARY:MSPA Fall 2025 Webinar
DESCRIPTION:Jerry Turner\, PhDLicensed Educational Psychologist; Certified Autism Spectrum Disorder Clinical Specialist; Certified Mediator with State Bar of California; Speaker and Professor; Consultant; Author  \nDr. Jerry L. Turner is a Licensed Educational Psychologist serving students and districts across California\, Arizona\, Nevada\, and Texas. He is the President of Individualized Educational Psychology\, Inc.\, and a nationally recognized speaker and consultant on topics including psycho-educational assessment\, special education best practices\, and ethical practices in the digital age. Dr. Turner is a Certified Autism Spectrum Disorder Clinical Specialist\, a Certified Mediator with the State Bar of California\, and a Consulting Psychologist with the American Psychological Association. His recent work focuses on guiding educational professionals through the complexities of integrating emerging technologies like artificial intelligence within the ethical boundaries of school-based practice. He has authored: AI for School Psychologists\, 2025; Special Education Guide for Teachers and Administrators\, 2020; So You Are a School Psychologist: A guide for interns and first year school psychologists\, 2012 (Third Edition – 2020); My Child Learns Differently\, 2019; Letters to My Father and Lessons Learned Writing to a Father with Dementia\, 2017; So You Are a Special Education Teacher: Essentials for Success\, 2014; Every Day is New Again: Understanding Dementia\, 2012; On Target: Optimizing Life\, 2012. \nNOTE: MSPA members MUST be logged into purchase event tickets. \nMPA members are eligible for our members’ price with a coupon code.  If you do not know the code please reach out to program@mspaonline.org
URL:https://mspaonline.org/event/mspa-fall-2025-webinar/
END:VEVENT
BEGIN:VEVENT
DTSTART;TZID=America/New_York:20251024T150000
DTEND;TZID=America/New_York:20251024T160000
DTSTAMP:20260422T233147
CREATED:20250904T174355Z
LAST-MODIFIED:20250904T174355Z
UID:10000044-1761318000-1761321600@mspaonline.org
SUMMARY:Board Meeting - October
DESCRIPTION:Board Meeting – October\nFriday\, October 24 · 3:00 – 4:00pm\nTime zone: America/New_York\nGoogle Meet joining info\nVideo call link: https://meet.google.com/rrc-cuco-fnn\nOr dial: ‪(US) +1 502-309-4972‬ PIN: ‪247 772 072‬#\nMore phone numbers: https://tel.meet/rrc-cuco-fnn?pin=5451640321338
URL:https://mspaonline.org/event/board-meeting-october/
END:VEVENT
END:VCALENDAR