BEGIN:VCALENDAR
VERSION:2.0
PRODID:-//MSPA - ECPv6.15.20//NONSGML v1.0//EN
CALSCALE:GREGORIAN
METHOD:PUBLISH
X-ORIGINAL-URL:https://mspaonline.org
X-WR-CALDESC:Events for MSPA
REFRESH-INTERVAL;VALUE=DURATION:PT1H
X-Robots-Tag:noindex
X-PUBLISHED-TTL:PT1H
BEGIN:VTIMEZONE
TZID:America/New_York
BEGIN:DAYLIGHT
TZOFFSETFROM:-0500
TZOFFSETTO:-0400
TZNAME:EDT
DTSTART:20240310T070000
END:DAYLIGHT
BEGIN:STANDARD
TZOFFSETFROM:-0400
TZOFFSETTO:-0500
TZNAME:EST
DTSTART:20241103T060000
END:STANDARD
BEGIN:DAYLIGHT
TZOFFSETFROM:-0500
TZOFFSETTO:-0400
TZNAME:EDT
DTSTART:20250309T070000
END:DAYLIGHT
BEGIN:STANDARD
TZOFFSETFROM:-0400
TZOFFSETTO:-0500
TZNAME:EST
DTSTART:20251102T060000
END:STANDARD
BEGIN:DAYLIGHT
TZOFFSETFROM:-0500
TZOFFSETTO:-0400
TZNAME:EDT
DTSTART:20260308T070000
END:DAYLIGHT
BEGIN:STANDARD
TZOFFSETFROM:-0400
TZOFFSETTO:-0500
TZNAME:EST
DTSTART:20261101T060000
END:STANDARD
END:VTIMEZONE
BEGIN:VEVENT
DTSTART;TZID=America/New_York:20250411T090000
DTEND;TZID=America/New_York:20250411T233000
DTSTAMP:20260423T070037
CREATED:20250124T175437Z
LAST-MODIFIED:20250206T155351Z
UID:10000037-1744362000-1744414200@mspaonline.org
SUMMARY:Spring Webinar 2025
DESCRIPTION:As leaders in school-based multidisciplinary teams\, school psychologists have played a significant role in\ndetermining educational disabilities. In this presentation\, Dr. Rebecca Resnik will cover issues related to\ndiagnoses associated with the results of school psychology assessments. She will cover how the Diagnostic\nand Statistical Manual (DSM-5) and the WHO’s International Classification of Diseases (ICD) coding systems\nwork at a general level. She will also discuss limitations to these diagnostic systems that can make diagnosis\nchallenging\, particularly regarding issues related to culture\, language\, and marginalization. Dr. Resnik will\nalso provide an overview of practical factors to consider when making evidence-based diagnoses of Specific\nLearning Disabilities\, ADHD\, Intellectual Disability\, and Autism. Note that this course will feature case\nmaterial\, including copyrighted standardized test material. It should thus only be attended by those individuals\nwith appropriate qualifications (licensed or certified professionals and graduate students). \n  \nMPA members are eligible for our members’ price with a coupon code.  If you do not know the code please reach out to program@mspaonline.org
URL:https://mspaonline.org/event/spring-webinar-2025/
END:VEVENT
END:VCALENDAR