BEGIN:VCALENDAR
VERSION:2.0
PRODID:-//MSPA - ECPv6.15.20//NONSGML v1.0//EN
CALSCALE:GREGORIAN
METHOD:PUBLISH
X-WR-CALNAME:MSPA
X-ORIGINAL-URL:https://mspaonline.org
X-WR-CALDESC:Events for MSPA
REFRESH-INTERVAL;VALUE=DURATION:PT1H
X-Robots-Tag:noindex
X-PUBLISHED-TTL:PT1H
BEGIN:VTIMEZONE
TZID:America/New_York
BEGIN:DAYLIGHT
TZOFFSETFROM:-0500
TZOFFSETTO:-0400
TZNAME:EDT
DTSTART:20230312T070000
END:DAYLIGHT
BEGIN:STANDARD
TZOFFSETFROM:-0400
TZOFFSETTO:-0500
TZNAME:EST
DTSTART:20231105T060000
END:STANDARD
BEGIN:DAYLIGHT
TZOFFSETFROM:-0500
TZOFFSETTO:-0400
TZNAME:EDT
DTSTART:20240310T070000
END:DAYLIGHT
BEGIN:STANDARD
TZOFFSETFROM:-0400
TZOFFSETTO:-0500
TZNAME:EST
DTSTART:20241103T060000
END:STANDARD
BEGIN:DAYLIGHT
TZOFFSETFROM:-0500
TZOFFSETTO:-0400
TZNAME:EDT
DTSTART:20250309T070000
END:DAYLIGHT
BEGIN:STANDARD
TZOFFSETFROM:-0400
TZOFFSETTO:-0500
TZNAME:EST
DTSTART:20251102T060000
END:STANDARD
END:VTIMEZONE
BEGIN:VEVENT
DTSTART;TZID=America/New_York:20240318T080000
DTEND;TZID=America/New_York:20240330T170000
DTSTAMP:20260424T011216
CREATED:20240220T234507Z
LAST-MODIFIED:20240312T205237Z
UID:10000024-1710748800-1711818000@mspaonline.org
SUMMARY:2024 MSPA Elections
DESCRIPTION:2024 Officer Elections will be held March 18-30\, 2024.  \nOfficers to be elected include President-Elect\, Treasurer-Elect\, Secretary\, and Parliamentarian. Additionally\, we will be voting on two Distinguished Member candidates. \nAny Active\, Retired\, or Distinguished member is eligible to vote.  Please log into your MSPA account and verify your primary email address to ensure that you receive an electronic ballot. \nMembers will receive emails from SimplyVoting.com with their ballots. \nContact Michelle Palmer for more information. \n			\n			\n				\n				\n				\n				\n			\n				\n				\n			\n				\n				\n				\n				\n				\n				\n				\n				\n				\n				\n				\n				\n				\n				\n				\n				\n				\n				President ElectSamantha Ritts(Anne Arundel) \n			\n				\n				\n				\n				\n				\n			\n			\n				\n				\n				\n				\n				\n				\n				\n				\n				\n				SecretaryRachel Potter(Harford) \n			\n				\n				\n				\n				\n				\n			\n			\n				\n				\n				\n				\n				\n				\n				\n				\n				\n				Treasurer ElectKathryn Phipps(Baltimore County) \n			\n				\n				\n				\n				\n				 \n			\n			\n				\n				\n				\n				\n			\n				\n				\n				\n				\n				\n				\n				\n				\n				\n				\n				Parlimentarian \n			\n			\n				\n				\n				\n				\n			\n				\n				\n				\n				\n				\n				\n				\n				\n				\n				\n				Katie Burkhouse(Howard) \n			\n				\n				\n				\n				\n				\n			\n			\n				\n				\n				\n				\n				\n				\n				\n				\n				\n				Sarah Sinclair(Harford) \n			\n				\n				\n				\n				\n				\n			\n			\n				\n				\n				\n				\n			\n				\n				\n			\n				\n				\n				\n				\n				\n				\n				\n				\n				\n				\n				\n				\n				\n				\n				\n				\n				\n				We are pleased to present the following members to be considered for Distinguished Membership. \n			\n			\n				\n				\n				\n				\n			\n				\n				\n				\n				\n				\n				\n				\n				\n				\n				\n				Robin Satchell(Posthumous) \n			\n				\n				\n				\n				\n				\n			\n			\n				\n				\n				\n				\n				\n				\n				\n				\n				\n				Laura Shriver          
URL:https://mspaonline.org/event/2024-mspa-elections/
END:VEVENT
END:VCALENDAR